BEGIN:VCALENDAR
PRODID:-//PUBBLE//agenda//NL
VERSION:2.0
METHOD:PUBLISH
BEGIN:VEVENT
DTSTART:20241107T085043Z
DTEND:20241107T095043Z
DTSTAMP:20260423T084929Z
UID:1989e275-d4ef-4473-b4d6-f7702783e407
CREATED:20260423T084929Z
NAME:Verkoping bij Jachin Boazkerk heturkerland.nl
X-WR-CALNAME:Verkoping bij Jachin Boazkerk
X-ALT-DESC;FMTTYPE=text/html:<a href='/agenda/2024/11/9/verkoping-bij-jachin-boazkerk-47119'>/agenda/2024/11/9/verkoping-bij-jachin-boazkerk-47119</a> || <p class="PNplat" pstyle="PN plat">Voor belangstellenden is er zaterdag van 10.00 tot 15.00 uur een verkoping in de zaal van de Jachin Boazkerk. Er is eten en drinken genoeg en er zijn diverse activiteiten voor de kinderen, onder meer een rondrit in een trein, poerwedstrijd en knutselen boven op zolder. De opbrengst is bestemd voor de kerk.</p>
DESCRIPTION:<a href='/agenda/2024/11/9/verkoping-bij-jachin-boazkerk-47119'>/agenda/2024/11/9/verkoping-bij-jachin-boazkerk-47119</a> || <p class="PNplat" pstyle="PN plat">Voor belangstellenden is er zaterdag van 10.00 tot 15.00 uur een verkoping in de zaal van de Jachin Boazkerk. Er is eten en drinken genoeg en er zijn diverse activiteiten voor de kinderen, onder meer een rondrit in een trein, poerwedstrijd en knutselen boven op zolder. De opbrengst is bestemd voor de kerk.</p>
LAST-MODIFIED:20260423T084929Z
LOCATION: Jachin Boazkerk | Singel 10-12 Urk
SEQUENCE:0
STATUS:CONFIRMED
SUMMARY:Verkoping bij Jachin Boazkerk
TRANSP:OPAQUE
END:VEVENT
END:VCALENDAR
