BEGIN:VCALENDAR
PRODID:-//PUBBLE//agenda//NL
VERSION:2.0
METHOD:PUBLISH
BEGIN:VEVENT
DTSTART:20250520T112017Z
DTEND:20250520T122017Z
DTSTAMP:20260423T090327Z
UID:cca37379-0206-4b9f-9d5d-7abd034d937e
CREATED:20260423T090327Z
NAME:GBS-dienst in de Jachin Boazkerk heturkerland.nl
X-WR-CALNAME:GBS-dienst in de Jachin Boazkerk
X-ALT-DESC;FMTTYPE=text/html:<a href='/agenda/2025/5/21/gbs-dienst-in-de-jachin-boazkerk-48458'>/agenda/2025/5/21/gbs-dienst-in-de-jachin-boazkerk-48458</a> || <p class="PNplat" pstyle="PN plat">Ds. G. Bredeweg spreekt woensdag om 19.30 uur voor de Gereformeerde Bijbelstichting in de Jachin Boazkerk.</p>
DESCRIPTION:<a href='/agenda/2025/5/21/gbs-dienst-in-de-jachin-boazkerk-48458'>/agenda/2025/5/21/gbs-dienst-in-de-jachin-boazkerk-48458</a> || <p class="PNplat" pstyle="PN plat">Ds. G. Bredeweg spreekt woensdag om 19.30 uur voor de Gereformeerde Bijbelstichting in de Jachin Boazkerk.</p>
LAST-MODIFIED:20260423T090327Z
LOCATION: Jachin Boazkerk | Singel 10-12 Urk
SEQUENCE:0
STATUS:CONFIRMED
SUMMARY:GBS-dienst in de Jachin Boazkerk
TRANSP:OPAQUE
END:VEVENT
END:VCALENDAR
