BEGIN:VCALENDAR
PRODID:-//PUBBLE//agenda//NL
VERSION:2.0
METHOD:PUBLISH
BEGIN:VEVENT
DTSTART:20250917T113436Z
DTEND:20250917T123436Z
DTSTAMP:20260422T174339Z
UID:90a567de-5aa0-4b92-94e6-904515db76c4
CREATED:20260422T174339Z
NAME:Mbuma-zendingsdag heturkerland.nl
X-WR-CALNAME:Mbuma-zendingsdag
X-ALT-DESC;FMTTYPE=text/html:<a href='/agenda/2025/9/20/mbuma-zendingsdag-49342'>/agenda/2025/9/20/mbuma-zendingsdag-49342</a> || <p>Het plaatselijke Mbuma-zendingscomité houdt zaterdag 20 september weer haar jaarlijkse zendingsdag. Deze dag wordt gehouden in de Jachin Boazkerk. De aanvang is ‘s morgens om 10.00 uur en ‘s middags om 14.00 uur.</p>
DESCRIPTION:<a href='/agenda/2025/9/20/mbuma-zendingsdag-49342'>/agenda/2025/9/20/mbuma-zendingsdag-49342</a> || <p>Het plaatselijke Mbuma-zendingscomité houdt zaterdag 20 september weer haar jaarlijkse zendingsdag. Deze dag wordt gehouden in de Jachin Boazkerk. De aanvang is ‘s morgens om 10.00 uur en ‘s middags om 14.00 uur.</p>
LAST-MODIFIED:20260422T174339Z
LOCATION: Jachin Boazkerk | Singel 10-12 Urk
SEQUENCE:0
STATUS:CONFIRMED
SUMMARY:Mbuma-zendingsdag
TRANSP:OPAQUE
END:VEVENT
END:VCALENDAR
