BEGIN:VCALENDAR
PRODID:-//PUBBLE//agenda//NL
VERSION:2.0
METHOD:PUBLISH
BEGIN:VEVENT
DTSTART:20251219T055943Z
DTEND:20251219T065943Z
DTSTAMP:20260420T134310Z
UID:15ed674b-639c-42bc-be89-392a65836618
CREATED:20260420T134310Z
NAME:Kerstnachtdienst van Sing4Him heturkerland.nl
X-WR-CALNAME:Kerstnachtdienst van Sing4Him
X-ALT-DESC;FMTTYPE=text/html:<a href='/agenda/2025/12/24/kerstnachtdienst-van-sing4him-50052'>/agenda/2025/12/24/kerstnachtdienst-van-sing4him-50052</a> || <p class="PNplat" pstyle="PN plat">De kinderkerstnachtdienst van Sing4Him is op woensdag 24 december om 18.30 uur in De Poort. De deuren gaan om 18.00 uur open. Het thema dit jaar is: ‘Geven maakt blij’.</p>
DESCRIPTION:<a href='/agenda/2025/12/24/kerstnachtdienst-van-sing4him-50052'>/agenda/2025/12/24/kerstnachtdienst-van-sing4him-50052</a> || <p class="PNplat" pstyle="PN plat">De kinderkerstnachtdienst van Sing4Him is op woensdag 24 december om 18.30 uur in De Poort. De deuren gaan om 18.00 uur open. Het thema dit jaar is: ‘Geven maakt blij’.</p>
LAST-MODIFIED:20260420T134310Z
LOCATION: De Poort | Lange Dam 52 Urk
SEQUENCE:0
STATUS:CONFIRMED
SUMMARY:Kerstnachtdienst van Sing4Him
TRANSP:OPAQUE
END:VEVENT
END:VCALENDAR
