BEGIN:VCALENDAR
PRODID:-//PUBBLE//agenda//NL
VERSION:2.0
METHOD:PUBLISH
BEGIN:VEVENT
DTSTART:20260415T153714Z
DTEND:20260423T160000Z
DTSTAMP:20260420T022408Z
UID:db261ea9-6a46-4bc4-b549-33af5d04853f
CREATED:20260420T022408Z
NAME:Dracht te koop in het museum heturkerland.nl
X-WR-CALNAME:Dracht te koop in het museum
X-ALT-DESC;FMTTYPE=text/html:<a href='/agenda/2026/4/23/dracht-te-koop-in-het-museum-50942'>/agenda/2026/4/23/dracht-te-koop-in-het-museum-50942</a> || <p class="PNplat" pstyle="PN plat">In Museum het Oude Raadhuis wordt donderdag 23 april van 14.00 tot 18.00 uur een klederdrachtverkoop gehouden. Er zijn onder meer karpoezen, broekstukken, keelknopen, Urker truien, oorijzers, spelden, mildes en ‘karkboezels’ en ‘karkwintjes’ te koop. Entree is 4,50 euro voor volwassenen, kinderen vanaf 6 jaar betalen 2,50 euro. Wie in klederdracht komt, heeft gratis toegang.</p>
DESCRIPTION:<a href='/agenda/2026/4/23/dracht-te-koop-in-het-museum-50942'>/agenda/2026/4/23/dracht-te-koop-in-het-museum-50942</a> || <p class="PNplat" pstyle="PN plat">In Museum het Oude Raadhuis wordt donderdag 23 april van 14.00 tot 18.00 uur een klederdrachtverkoop gehouden. Er zijn onder meer karpoezen, broekstukken, keelknopen, Urker truien, oorijzers, spelden, mildes en ‘karkboezels’ en ‘karkwintjes’ te koop. Entree is 4,50 euro voor volwassenen, kinderen vanaf 6 jaar betalen 2,50 euro. Wie in klederdracht komt, heeft gratis toegang.</p>
LAST-MODIFIED:20260420T022408Z
LOCATION: Museum het Oude Raadhuis | Wijk 2 2 Urk
SEQUENCE:0
STATUS:CONFIRMED
SUMMARY:Dracht te koop in het museum
TRANSP:OPAQUE
END:VEVENT
END:VCALENDAR
