BEGIN:VCALENDAR
PRODID:-//PUBBLE//agenda//NL
VERSION:2.0
METHOD:PUBLISH
BEGIN:VEVENT
DTSTART:20260415T155140Z
DTEND:20260423T130000Z
DTSTAMP:20260420T021325Z
UID:28707a08-5636-4255-a1f5-b00093dfbbc4
CREATED:20260420T021325Z
NAME:Lentemarkt van Mit Eenkanger heturkerland.nl
X-WR-CALNAME:Lentemarkt van Mit Eenkanger
X-ALT-DESC;FMTTYPE=text/html:<a href='/agenda/2026/4/23/lentemarkt-van-mit-eenkanger-50948'>/agenda/2026/4/23/lentemarkt-van-mit-eenkanger-50948</a> || <p class="PNplat" pstyle="PN plat">Op donderdag 23 april is er van 10.00 uur tot en met 15.00 uur weer een lentemarkt in de Hofstee. Op deze markt staan kraampjes van verschillende organisaties die onder de samenwerking van Mit Eenkanger vallen. Er is muziek, gezelligheid en er zijn lekkere dingen te koop. Het doel is om van het verdiende geld een grote opblaasbare limonadekoe aan te schaffen, die weer te gebruiken is voor verschillende organisaties. Wie meer wil weten over Mit Eenkanger of de andere organisaties, zoals Philadelphia, ‘s Heeren Loo, PCOB, Talma/Hofstee, wordt hier graag te woord gestaan.</p>
DESCRIPTION:<a href='/agenda/2026/4/23/lentemarkt-van-mit-eenkanger-50948'>/agenda/2026/4/23/lentemarkt-van-mit-eenkanger-50948</a> || <p class="PNplat" pstyle="PN plat">Op donderdag 23 april is er van 10.00 uur tot en met 15.00 uur weer een lentemarkt in de Hofstee. Op deze markt staan kraampjes van verschillende organisaties die onder de samenwerking van Mit Eenkanger vallen. Er is muziek, gezelligheid en er zijn lekkere dingen te koop. Het doel is om van het verdiende geld een grote opblaasbare limonadekoe aan te schaffen, die weer te gebruiken is voor verschillende organisaties. Wie meer wil weten over Mit Eenkanger of de andere organisaties, zoals Philadelphia, ‘s Heeren Loo, PCOB, Talma/Hofstee, wordt hier graag te woord gestaan.</p>
LAST-MODIFIED:20260420T021325Z
LOCATION: Talma De Hofstee | Oslolaan 2 Urk
SEQUENCE:0
STATUS:CONFIRMED
SUMMARY:Lentemarkt van Mit Eenkanger
TRANSP:OPAQUE
END:VEVENT
END:VCALENDAR
