BEGIN:VCALENDAR
PRODID:-//PUBBLE//agenda//NL
VERSION:2.0
METHOD:PUBLISH
BEGIN:VEVENT
DTSTART:20260420T111723Z
DTEND:20260520T150000Z
DTSTAMP:20260420T154337Z
UID:e94e5955-0005-46ca-b0c2-5c0d643c9dfa
CREATED:20260420T154337Z
NAME:Hulletjes opzetten met commissie Urkerdag heturkerland.nl
X-WR-CALNAME:Hulletjes opzetten met commissie Urkerdag
X-ALT-DESC;FMTTYPE=text/html:<a href='/agenda/2026/5/20/hulletjes-opzetten-met-commissie-urkerdag-50981'>/agenda/2026/5/20/hulletjes-opzetten-met-commissie-urkerdag-50981</a> || <p>Woensdagmiddag 20 mei van 15.00 tot 17.00 uur is het hulletjes opzetten in De Rots, Urkerweg 64. Wie nog uitleg wil of problemen met de ‘ulle’ heeft, is van harte welkom. Diverse klederdrachtkenners zijn dan aanwezig om te helpen bij allerlei ongemakken. Hierbij is ook een Urker verkoop.</p>
DESCRIPTION:<a href='/agenda/2026/5/20/hulletjes-opzetten-met-commissie-urkerdag-50981'>/agenda/2026/5/20/hulletjes-opzetten-met-commissie-urkerdag-50981</a> || <p>Woensdagmiddag 20 mei van 15.00 tot 17.00 uur is het hulletjes opzetten in De Rots, Urkerweg 64. Wie nog uitleg wil of problemen met de ‘ulle’ heeft, is van harte welkom. Diverse klederdrachtkenners zijn dan aanwezig om te helpen bij allerlei ongemakken. Hierbij is ook een Urker verkoop.</p>
LAST-MODIFIED:20260420T154337Z
LOCATION: De Rots | Urkerweg 64 Urk
SEQUENCE:0
STATUS:CONFIRMED
SUMMARY:Hulletjes opzetten met commissie Urkerdag
TRANSP:OPAQUE
END:VEVENT
END:VCALENDAR
