BEGIN:VCALENDAR
PRODID:-//PUBBLE//agenda//NL
VERSION:2.0
METHOD:PUBLISH
BEGIN:VEVENT
DTSTART:20260420T112012Z
DTEND:20260421T140000Z
DTSTAMP:20260420T125233Z
UID:186d769b-b9fe-40e6-9af5-f20c1a773d26
CREATED:20260420T125233Z
NAME:Scootmobielcursus heturkerland.nl
X-WR-CALNAME:Scootmobielcursus
X-ALT-DESC;FMTTYPE=text/html:<a href='/agenda/2026/4/21/scootmobielcursus-50982'>/agenda/2026/4/21/scootmobielcursus-50982</a> || <p class="PNplat" pstyle="PN plat">VVN afdeling Urk (Veilig Verkeer Nederland) houdt dinsdag in samenwerking met Caritas Urk een scootmobielcursus. De cursus start om 14.00 uur in De Rots met een kopje koffie of thee. Aansluitend volgt een theoretisch gedeelte, waarna de middag afgesloten wordt met een praktisch behendigheidsparcours buiten bij De Rots. De cursus duurt tot ongeveer 16.00 uur. Deelname is gratis en aanmelden is niet nodig.</p>
DESCRIPTION:<a href='/agenda/2026/4/21/scootmobielcursus-50982'>/agenda/2026/4/21/scootmobielcursus-50982</a> || <p class="PNplat" pstyle="PN plat">VVN afdeling Urk (Veilig Verkeer Nederland) houdt dinsdag in samenwerking met Caritas Urk een scootmobielcursus. De cursus start om 14.00 uur in De Rots met een kopje koffie of thee. Aansluitend volgt een theoretisch gedeelte, waarna de middag afgesloten wordt met een praktisch behendigheidsparcours buiten bij De Rots. De cursus duurt tot ongeveer 16.00 uur. Deelname is gratis en aanmelden is niet nodig.</p>
LAST-MODIFIED:20260420T125233Z
LOCATION: De Rots | Urkerweg 64 Urk
SEQUENCE:0
STATUS:CONFIRMED
SUMMARY:Scootmobielcursus
TRANSP:OPAQUE
END:VEVENT
END:VCALENDAR
