BEGIN:VCALENDAR
PRODID:-//PUBBLE//agenda//NL
VERSION:2.0
METHOD:PUBLISH
BEGIN:VEVENT
DTSTART:20260420T112213Z
DTEND:20260420T122213Z
DTSTAMP:20260422T144204Z
UID:aafc24b6-2cb8-40cd-9166-38f0d44ab519
CREATED:20260422T144204Z
NAME:Jeruzalemkerk houdt bingo in De Koningshof heturkerland.nl
X-WR-CALNAME:Jeruzalemkerk houdt bingo in De Koningshof
X-ALT-DESC;FMTTYPE=text/html:<a href='/agenda/2026/4/23/jeruzalemkerk-houdt-bingo-in-de-koningshof-50984'>/agenda/2026/4/23/jeruzalemkerk-houdt-bingo-in-de-koningshof-50984</a> || <p class="PNplat" pstyle="PN plat">Vanuit de Jeruzalemkerk wordt er donderdag in De Koningshof een bingo gehouden. Er is een grote verloting en er zijn prijzen te winnen als waardebonnen, Efteling-arrangement, een minuut gratis boodschappen en nog veel meer. De bingo begint om 20.00 uur, zaal open vanaf 19.30 uur. De opbrengst is voor Jeugdwerk.</p>
DESCRIPTION:<a href='/agenda/2026/4/23/jeruzalemkerk-houdt-bingo-in-de-koningshof-50984'>/agenda/2026/4/23/jeruzalemkerk-houdt-bingo-in-de-koningshof-50984</a> || <p class="PNplat" pstyle="PN plat">Vanuit de Jeruzalemkerk wordt er donderdag in De Koningshof een bingo gehouden. Er is een grote verloting en er zijn prijzen te winnen als waardebonnen, Efteling-arrangement, een minuut gratis boodschappen en nog veel meer. De bingo begint om 20.00 uur, zaal open vanaf 19.30 uur. De opbrengst is voor Jeugdwerk.</p>
LAST-MODIFIED:20260422T144204Z
LOCATION: De Koningshof Party & Events | Staartweg 20 Urk
SEQUENCE:0
STATUS:CONFIRMED
SUMMARY:Jeruzalemkerk houdt bingo in De Koningshof
TRANSP:OPAQUE
END:VEVENT
END:VCALENDAR
