BEGIN:VCALENDAR
PRODID:-//PUBBLE//agenda//NL
VERSION:2.0
METHOD:PUBLISH
BEGIN:VEVENT
DTSTART:20260420T112424Z
DTEND:20260427T103000Z
DTSTAMP:20260425T134903Z
UID:456a7c3d-c174-4201-beea-33f7b862d263
CREATED:20260425T134903Z
NAME:Shapers Games heturkerland.nl
X-WR-CALNAME:Shapers Games
X-ALT-DESC;FMTTYPE=text/html:<a href='/agenda/2026/4/27/shapers-games-50985'>/agenda/2026/4/27/shapers-games-50985</a> || <p class="PNplat" pstyle="PN plat">De Shapers Games vinden maandag 27 april plaats op het haventerrein. Dit evenement biedt deelnemers een uitdagend parcours van circa 40 minuten, waarin hardlopen, kracht, conditie, doorzettingsvermogen en teamwork centraal staan. Deelnemers, zowel beginners als ervaren sporters, kunnen zich nog inschrijven via shapersfitness.nl, waar nog een aantal tijdsblokken beschikbaar is. Het evenement vindt plaats tussen 10.00 en 12.30 uur.</p>
DESCRIPTION:<a href='/agenda/2026/4/27/shapers-games-50985'>/agenda/2026/4/27/shapers-games-50985</a> || <p class="PNplat" pstyle="PN plat">De Shapers Games vinden maandag 27 april plaats op het haventerrein. Dit evenement biedt deelnemers een uitdagend parcours van circa 40 minuten, waarin hardlopen, kracht, conditie, doorzettingsvermogen en teamwork centraal staan. Deelnemers, zowel beginners als ervaren sporters, kunnen zich nog inschrijven via shapersfitness.nl, waar nog een aantal tijdsblokken beschikbaar is. Het evenement vindt plaats tussen 10.00 en 12.30 uur.</p>
LAST-MODIFIED:20260425T134903Z
LOCATION: Haventerrein | Klifweg  Urk
SEQUENCE:0
STATUS:CONFIRMED
SUMMARY:Shapers Games
TRANSP:OPAQUE
END:VEVENT
END:VCALENDAR
