BEGIN:VCALENDAR
PRODID:-//PUBBLE//agenda//NL
VERSION:2.0
METHOD:PUBLISH
BEGIN:VEVENT
DTSTART:20260420T112508Z
DTEND:20260420T122508Z
DTSTAMP:20260422T144801Z
UID:2ec55ab3-9182-425a-9815-aaa054785fc0
CREATED:20260422T144801Z
NAME:Eetclub van Mit Eenkanger heturkerland.nl
X-WR-CALNAME:Eetclub van Mit Eenkanger
X-ALT-DESC;FMTTYPE=text/html:<a href='/agenda/2026/4/24/eetclub-van-mit-eenkanger-50986'>/agenda/2026/4/24/eetclub-van-mit-eenkanger-50986</a> || <p class="PNplat" pstyle="PN plat">Eén keer in de maand wordt er een datum gepland voor mensen die graag samen even eten. Dit keer is het op vrijdag 24 april om 12.15 uur in Het Achterhuis, de kosten bedragen 15 euro per persoon. ,,Het doel is om gewoon even lekker uit huis te zijn en mensen te ontmoeten en gezellig samen te eten. Wilt u dit een keer proberen, mail naar rik@caritasurk.nl of bel 0527-683346.”</p>
DESCRIPTION:<a href='/agenda/2026/4/24/eetclub-van-mit-eenkanger-50986'>/agenda/2026/4/24/eetclub-van-mit-eenkanger-50986</a> || <p class="PNplat" pstyle="PN plat">Eén keer in de maand wordt er een datum gepland voor mensen die graag samen even eten. Dit keer is het op vrijdag 24 april om 12.15 uur in Het Achterhuis, de kosten bedragen 15 euro per persoon. ,,Het doel is om gewoon even lekker uit huis te zijn en mensen te ontmoeten en gezellig samen te eten. Wilt u dit een keer proberen, mail naar rik@caritasurk.nl of bel 0527-683346.”</p>
LAST-MODIFIED:20260422T144801Z
LOCATION: Het Achterhuis | Burgemeester J. Schipper Kade 2 Urk
SEQUENCE:0
STATUS:CONFIRMED
SUMMARY:Eetclub van Mit Eenkanger
TRANSP:OPAQUE
END:VEVENT
END:VCALENDAR
