BEGIN:VCALENDAR
PRODID:-//PUBBLE//agenda//NL
VERSION:2.0
METHOD:PUBLISH
BEGIN:VEVENT
DTSTART:20260420T112611Z
DTEND:20260424T140000Z
DTSTAMP:20260422T144354Z
UID:c5734292-f120-41ef-96ec-0581725e46b3
CREATED:20260422T144354Z
NAME:Boekpresentatie Cornelis Kramer heturkerland.nl
X-WR-CALNAME:Boekpresentatie Cornelis Kramer
X-ALT-DESC;FMTTYPE=text/html:<a href='/agenda/2026/4/24/boekpresentatie-cornelis-kramer-50987'>/agenda/2026/4/24/boekpresentatie-cornelis-kramer-50987</a> || <p class="PNplat" pstyle="PN plat">Van de hand van plaatsgenoot Cornelis Kramer (23), zoon van Henk en Hennie Kramer-Kramer, verschijnt vrijdag het boek ‘De klas van Seth Baantjer - De gestolen taart’. Wie benieuwd is naar Cornelis’ debuutdetective, is vrijdag van harte welkom in de bibliotheek, waar Cornelis van 15.00 tot 16.00 uur een boeklezing geeft. Het kinderboek is daarna te koop bij de Urker boekhandels voor 17,99 euro, of te bestellen via schrijvercornelis.nl.</p>
DESCRIPTION:<a href='/agenda/2026/4/24/boekpresentatie-cornelis-kramer-50987'>/agenda/2026/4/24/boekpresentatie-cornelis-kramer-50987</a> || <p class="PNplat" pstyle="PN plat">Van de hand van plaatsgenoot Cornelis Kramer (23), zoon van Henk en Hennie Kramer-Kramer, verschijnt vrijdag het boek ‘De klas van Seth Baantjer - De gestolen taart’. Wie benieuwd is naar Cornelis’ debuutdetective, is vrijdag van harte welkom in de bibliotheek, waar Cornelis van 15.00 tot 16.00 uur een boeklezing geeft. Het kinderboek is daarna te koop bij de Urker boekhandels voor 17,99 euro, of te bestellen via schrijvercornelis.nl.</p>
LAST-MODIFIED:20260422T144354Z
LOCATION: Bibliotheek | Singel 9B Urk
SEQUENCE:0
STATUS:CONFIRMED
SUMMARY:Boekpresentatie Cornelis Kramer
TRANSP:OPAQUE
END:VEVENT
END:VCALENDAR
