BEGIN:VCALENDAR
PRODID:-//PUBBLE//agenda//NL
VERSION:2.0
METHOD:PUBLISH
BEGIN:VEVENT
DTSTART:20260420T112715Z
DTEND:20260422T160000Z
DTSTAMP:20260420T123558Z
UID:c2e4fe1b-3ac8-4215-93db-54657c90b811
CREATED:20260420T123558Z
NAME:Bazar in de Eben-Haëzerkerk heturkerland.nl
X-WR-CALNAME:Bazar in de Eben-Haëzerkerk
X-ALT-DESC;FMTTYPE=text/html:<a href='/agenda/2026/4/22/bazar-in-de-eben-haezerkerk-50988'>/agenda/2026/4/22/bazar-in-de-eben-haezerkerk-50988</a> || <p class="PNplat" pstyle="PN plat">In de Eben-Haëzerkerk wordt woensdag de jaarlijkse voorjaarsbazar gehouden. Er wordt weer van alles verkocht, zoals bloemen, snoeptraktaties, speelgoed, boeken, kaarten, Urker goed en cadeauverpakkingen. Ook is er drinken en lekkers te krijgen in de koffiehoek en is er tussen de middag de mogelijkheid om te genieten van belegde broodjes, soep en slaatjes. Vanaf 16.00 uur wordt er vis verkocht. De bazar is van 10.00 tot 18.00 uur, eenieder is van harte welkom.</p>
DESCRIPTION:<a href='/agenda/2026/4/22/bazar-in-de-eben-haezerkerk-50988'>/agenda/2026/4/22/bazar-in-de-eben-haezerkerk-50988</a> || <p class="PNplat" pstyle="PN plat">In de Eben-Haëzerkerk wordt woensdag de jaarlijkse voorjaarsbazar gehouden. Er wordt weer van alles verkocht, zoals bloemen, snoeptraktaties, speelgoed, boeken, kaarten, Urker goed en cadeauverpakkingen. Ook is er drinken en lekkers te krijgen in de koffiehoek en is er tussen de middag de mogelijkheid om te genieten van belegde broodjes, soep en slaatjes. Vanaf 16.00 uur wordt er vis verkocht. De bazar is van 10.00 tot 18.00 uur, eenieder is van harte welkom.</p>
LAST-MODIFIED:20260420T123558Z
LOCATION: Eben-Haëzerkerk | Almerelaan 1B Urk
SEQUENCE:0
STATUS:CONFIRMED
SUMMARY:Bazar in de Eben-Haëzerkerk
TRANSP:OPAQUE
END:VEVENT
END:VCALENDAR
