BEGIN:VCALENDAR
PRODID:-//PUBBLE//agenda//NL
VERSION:2.0
METHOD:PUBLISH
BEGIN:VEVENT
DTSTART:20260422T152929Z
DTEND:20260424T180000Z
DTSTAMP:20260423T142356Z
UID:db4821ee-6d11-4a93-931c-7f9192bf1600
CREATED:20260423T142356Z
NAME:Gebedsmoment bij het Leger des Heils heturkerland.nl
X-WR-CALNAME:Gebedsmoment bij het Leger des Heils
X-ALT-DESC;FMTTYPE=text/html:<a href='/agenda/2026/4/24/gebedsmoment-bij-het-leger-des-heils-51010'>/agenda/2026/4/24/gebedsmoment-bij-het-leger-des-heils-51010</a> || <p class="PNplat" pstyle="PN plat">Het wekelijks gebedsmoment vindt vrijdag van 19.30 tot 20.00 uur plaats bij het Leger des Heils.</p>
DESCRIPTION:<a href='/agenda/2026/4/24/gebedsmoment-bij-het-leger-des-heils-51010'>/agenda/2026/4/24/gebedsmoment-bij-het-leger-des-heils-51010</a> || <p class="PNplat" pstyle="PN plat">Het wekelijks gebedsmoment vindt vrijdag van 19.30 tot 20.00 uur plaats bij het Leger des Heils.</p>
LAST-MODIFIED:20260423T142356Z
LOCATION: Leger des Heils | Wijk 2 6 Urk
SEQUENCE:0
STATUS:CONFIRMED
SUMMARY:Gebedsmoment bij het Leger des Heils
TRANSP:OPAQUE
END:VEVENT
END:VCALENDAR
