BEGIN:VCALENDAR
PRODID:-//PUBBLE//agenda//NL
VERSION:2.0
METHOD:PUBLISH
BEGIN:VEVENT
DTSTART:20260422T153922Z
DTEND:20260425T140000Z
DTSTAMP:20260425T134606Z
UID:a783abc2-31ce-4c11-b657-a3b59ad33f2e
CREATED:20260425T134606Z
NAME:Open dag Stichting Urker Botter heturkerland.nl
X-WR-CALNAME:Open dag Stichting Urker Botter
X-ALT-DESC;FMTTYPE=text/html:<a href='/agenda/2026/4/25/open-dag-stichting-urker-botter-51012'>/agenda/2026/4/25/open-dag-stichting-urker-botter-51012</a> || <p>In en rondom de Botterschuur wordt komende zaterdag de open dag van Stichting Urker Botter gehouden. ,,Er zijn vrijwilligers aanwezig om over de schuur en schepen te vertellen. Het is zeker de moeite waard om tussen 10.00 en 16.00 uur een kijkje te nemen, de koffie en thee staan klaar.’’</p>
DESCRIPTION:<a href='/agenda/2026/4/25/open-dag-stichting-urker-botter-51012'>/agenda/2026/4/25/open-dag-stichting-urker-botter-51012</a> || <p>In en rondom de Botterschuur wordt komende zaterdag de open dag van Stichting Urker Botter gehouden. ,,Er zijn vrijwilligers aanwezig om over de schuur en schepen te vertellen. Het is zeker de moeite waard om tussen 10.00 en 16.00 uur een kijkje te nemen, de koffie en thee staan klaar.’’</p>
LAST-MODIFIED:20260425T134606Z
LOCATION: Botterschuur | Wijk 1 21 Urk
SEQUENCE:0
STATUS:CONFIRMED
SUMMARY:Open dag Stichting Urker Botter
TRANSP:OPAQUE
END:VEVENT
END:VCALENDAR
