BEGIN:VCALENDAR
PRODID:-//PUBBLE//agenda//NL
VERSION:2.0
METHOD:PUBLISH
BEGIN:VEVENT
DTSTART:20260424T080715Z
DTEND:20260425T160000Z
DTSTAMP:20260425T134832Z
UID:216b0a61-5ac4-4fa2-bcbd-5f82f1675e41
CREATED:20260425T134832Z
NAME:Scootersprint bij Port of Urk heturkerland.nl
X-WR-CALNAME:Scootersprint bij Port of Urk
X-ALT-DESC;FMTTYPE=text/html:<a href='/agenda/2026/4/25/scootersprint-bij-port-of-urk-51042'>/agenda/2026/4/25/scootersprint-bij-port-of-urk-51042</a> || <p class="Kadertekstbook" pstyle="Kadertekst book">Op het terrein van Port of Urk wordt een spectaculaire 150 meter dragrace gereden, waar snelheid, techniek en vakmanschap samenkomen. Dit evenement vindt zaterdag plaats van 9.00 tot 18.00 uur op het terrein van Port of Urk.</p>
DESCRIPTION:<a href='/agenda/2026/4/25/scootersprint-bij-port-of-urk-51042'>/agenda/2026/4/25/scootersprint-bij-port-of-urk-51042</a> || <p class="Kadertekstbook" pstyle="Kadertekst book">Op het terrein van Port of Urk wordt een spectaculaire 150 meter dragrace gereden, waar snelheid, techniek en vakmanschap samenkomen. Dit evenement vindt zaterdag plaats van 9.00 tot 18.00 uur op het terrein van Port of Urk.</p>
LAST-MODIFIED:20260425T134832Z
LOCATION: Port of Urk |   Urk
SEQUENCE:0
STATUS:CONFIRMED
SUMMARY:Scootersprint bij Port of Urk
TRANSP:OPAQUE
END:VEVENT
END:VCALENDAR
