BEGIN:VCALENDAR
PRODID:-//PUBBLE//agenda//NL
VERSION:2.0
METHOD:PUBLISH
BEGIN:VEVENT
DTSTART:20260424T080923Z
DTEND:20260424T090923Z
DTSTAMP:20260425T134909Z
UID:3ca562a9-9c48-4e7a-9fd0-ebc48f25c304
CREATED:20260425T134909Z
NAME:Poerwedstrijd bij singel Het Ruim heturkerland.nl
X-WR-CALNAME:Poerwedstrijd bij singel Het Ruim
X-ALT-DESC;FMTTYPE=text/html:<a href='/agenda/2026/4/27/poerwedstrijd-bij-singel-het-ruim-51043'>/agenda/2026/4/27/poerwedstrijd-bij-singel-het-ruim-51043</a> || <p class="Plattetekst" pstyle="Platte tekst">Hengelsportvereniging De Blijde Baars organiseert ook dit jaar weer een viswedstrijd voor de jeugd tot 15 jaar op Koningsdag. Deelnemers kunnen zich voor de aanvang van de wedstrijd (voor 14.00 uur dus) inschrijven bij de singel aan het Ruim. Er zijn leuke prijzen te winnen!</p>
DESCRIPTION:<a href='/agenda/2026/4/27/poerwedstrijd-bij-singel-het-ruim-51043'>/agenda/2026/4/27/poerwedstrijd-bij-singel-het-ruim-51043</a> || <p class="Plattetekst" pstyle="Platte tekst">Hengelsportvereniging De Blijde Baars organiseert ook dit jaar weer een viswedstrijd voor de jeugd tot 15 jaar op Koningsdag. Deelnemers kunnen zich voor de aanvang van de wedstrijd (voor 14.00 uur dus) inschrijven bij de singel aan het Ruim. Er zijn leuke prijzen te winnen!</p>
LAST-MODIFIED:20260425T134909Z
LOCATION: Singel Het Ruim |   Urk
SEQUENCE:0
STATUS:CONFIRMED
SUMMARY:Poerwedstrijd bij singel Het Ruim
TRANSP:OPAQUE
END:VEVENT
END:VCALENDAR
