BEGIN:VCALENDAR
PRODID:-//PUBBLE//agenda//NL
VERSION:2.0
METHOD:PUBLISH
BEGIN:VEVENT
DTSTART:20260424T081140Z
DTEND:20260424T091140Z
DTSTAMP:20260425T135415Z
UID:2773933c-47f4-49c7-b0b3-11f208eb273f
CREATED:20260425T135415Z
NAME:Oranjebingo in Het Achterhuis heturkerland.nl
X-WR-CALNAME:Oranjebingo in Het Achterhuis
X-ALT-DESC;FMTTYPE=text/html:<a href='/agenda/2026/4/27/oranjebingo-in-het-achterhuis-51044'>/agenda/2026/4/27/oranjebingo-in-het-achterhuis-51044</a> || <p class="Plattetekst" pstyle="Platte tekst">Om 20.00 uur start in Het Achterhuis de Oranjebingo. Boekjes (12,50 euro) zijn aan de deur te koop en zijn goed voor vier ronden meespelen. De zaal gaat om 19.30 uur open.</p>
DESCRIPTION:<a href='/agenda/2026/4/27/oranjebingo-in-het-achterhuis-51044'>/agenda/2026/4/27/oranjebingo-in-het-achterhuis-51044</a> || <p class="Plattetekst" pstyle="Platte tekst">Om 20.00 uur start in Het Achterhuis de Oranjebingo. Boekjes (12,50 euro) zijn aan de deur te koop en zijn goed voor vier ronden meespelen. De zaal gaat om 19.30 uur open.</p>
LAST-MODIFIED:20260425T135415Z
LOCATION: Het Achterhuis | Burgemeester J. Schipper Kade 2 Urk
SEQUENCE:0
STATUS:CONFIRMED
SUMMARY:Oranjebingo in Het Achterhuis
TRANSP:OPAQUE
END:VEVENT
END:VCALENDAR
