BEGIN:VCALENDAR
PRODID:-//PUBBLE//agenda//NL
VERSION:2.0
METHOD:PUBLISH
BEGIN:VEVENT
DTSTART:20260424T081250Z
DTEND:20260424T091250Z
DTSTAMP:20260425T135026Z
UID:1bbeeb8f-a564-455b-89dc-2c8ff5e53dbc
CREATED:20260425T135026Z
NAME:Brandweer Urk viert feest heturkerland.nl
X-WR-CALNAME:Brandweer Urk viert feest
X-ALT-DESC;FMTTYPE=text/html:<a href='/agenda/2026/4/27/brandweer-urk-viert-feest-51045'>/agenda/2026/4/27/brandweer-urk-viert-feest-51045</a> || <p class="Plattetekst" pstyle="Platte tekst">Koningsdag krijgt dit jaar een extra bijzonder tintje: Brandweer Urk bestaat maar liefst 150 jaar en geeft daarom een spectaculaire demonstratie op het haventerrein. Aanvang is 16.00 uur. Bezoekers kunnen rekenen op een indrukwekkende show, waarbij de brandweer een realistisch incident nabootst.</p>
DESCRIPTION:<a href='/agenda/2026/4/27/brandweer-urk-viert-feest-51045'>/agenda/2026/4/27/brandweer-urk-viert-feest-51045</a> || <p class="Plattetekst" pstyle="Platte tekst">Koningsdag krijgt dit jaar een extra bijzonder tintje: Brandweer Urk bestaat maar liefst 150 jaar en geeft daarom een spectaculaire demonstratie op het haventerrein. Aanvang is 16.00 uur. Bezoekers kunnen rekenen op een indrukwekkende show, waarbij de brandweer een realistisch incident nabootst.</p>
LAST-MODIFIED:20260425T135026Z
LOCATION: Haventerrein | Klifweg  Urk
SEQUENCE:0
STATUS:CONFIRMED
SUMMARY:Brandweer Urk viert feest
TRANSP:OPAQUE
END:VEVENT
END:VCALENDAR
